Package: compSPOT Version: 1.7.0 Command: rm -rf compSPOT.buildbin-libdir && mkdir compSPOT.buildbin-libdir && /Users/biocbuild/BBS/utils/build-universal.sh compSPOT_1.7.0.tar.gz /Library/Frameworks/R.framework/Resources/bin/R compSPOT.buildbin-libdir StartedAt: 2025-10-25 01:34:15 -0400 (Sat, 25 Oct 2025) EndedAt: 2025-10-25 01:34:25 -0400 (Sat, 25 Oct 2025) EllapsedTime: 10.4 seconds RetCode: 0 Status: OK PackageFile: compSPOT_1.7.0.tgz PackageFileSize: 465.9 KiB