Package: compSPOT Version: 1.7.0 Command: /Library/Frameworks/R.framework/Resources/bin/R CMD INSTALL compSPOT StartedAt: 2025-10-26 15:05:31 -0400 (Sun, 26 Oct 2025) EndedAt: 2025-10-26 15:05:37 -0400 (Sun, 26 Oct 2025) EllapsedTime: 6.0 seconds RetCode: 0 Status: OK