Package: compSPOT Version: 1.8.0 Command: /Library/Frameworks/R.framework/Resources/bin/R CMD INSTALL compSPOT StartedAt: 2025-11-17 17:06:50 -0500 (Mon, 17 Nov 2025) EndedAt: 2025-11-17 17:06:54 -0500 (Mon, 17 Nov 2025) EllapsedTime: 3.3 seconds RetCode: 0 Status: OK