Package: compEpiTools Version: 1.44.0 Command: /Library/Frameworks/R.framework/Resources/bin/R CMD INSTALL compEpiTools StartedAt: 2025-11-02 15:52:50 -0500 (Sun, 02 Nov 2025) EndedAt: 2025-11-02 15:54:10 -0500 (Sun, 02 Nov 2025) EllapsedTime: 80.2 seconds RetCode: 0 Status: OK