Package: compEpiTools Version: 1.44.0 Command: /Library/Frameworks/R.framework/Resources/bin/R CMD build --keep-empty-dirs --no-resave-data compEpiTools StartedAt: 2025-10-31 16:37:52 -0400 (Fri, 31 Oct 2025) EndedAt: 2025-10-31 16:39:32 -0400 (Fri, 31 Oct 2025) EllapsedTime: 99.2 seconds RetCode: 0 Status: OK PackageFile: compEpiTools_1.44.0.tar.gz PackageFileSize: 2.165 MiB