Package: compEpiTools Version: 1.43.1 Command: /Library/Frameworks/R.framework/Resources/bin/R CMD INSTALL compEpiTools StartedAt: 2025-10-26 15:25:38 -0400 (Sun, 26 Oct 2025) EndedAt: 2025-10-26 15:26:02 -0400 (Sun, 26 Oct 2025) EllapsedTime: 24.0 seconds RetCode: 0 Status: OK