Package: compEpiTools Version: 1.43.1 Command: rm -rf compEpiTools.buildbin-libdir && mkdir compEpiTools.buildbin-libdir && /Users/biocbuild/BBS/utils/build-universal.sh compEpiTools_1.43.1.tar.gz /Library/Frameworks/R.framework/Resources/bin/R compEpiTools.buildbin-libdir StartedAt: 2025-10-24 22:58:38 -0400 (Fri, 24 Oct 2025) EndedAt: 2025-10-24 22:59:04 -0400 (Fri, 24 Oct 2025) EllapsedTime: 25.5 seconds RetCode: 0 Status: OK PackageFile: compEpiTools_1.43.1.tgz PackageFileSize: 2.348 MiB