Package: compEpiTools Version: 1.44.0 Maintainer: Mattia Furlan MaintainerEmail: mattia.furlan at iit.it git_url: https://git.bioconductor.org/packages/compEpiTools git_branch: RELEASE_3_22 git_last_commit: 75ae4a8 git_last_commit_date: 2025-10-29 10:20:59 -0500 (Wed, 29 Oct 2025)