Package: comapr Version: 1.14.0 Command: /home/biocbuild/bbs-3.22-bioc/R/bin/R CMD INSTALL comapr StartedAt: 2025-11-16 15:48:47 -0500 (Sun, 16 Nov 2025) EndedAt: 2025-11-16 15:49:50 -0500 (Sun, 16 Nov 2025) EllapsedTime: 62.8 seconds RetCode: 0 Status: OK