Package: comapr Version: 1.14.0 Command: /home/biocbuild/bbs-3.22-bioc/R/bin/R CMD build --keep-empty-dirs --no-resave-data --md5 comapr StartedAt: 2025-11-16 17:03:54 -0500 (Sun, 16 Nov 2025) EndedAt: 2025-11-16 17:05:19 -0500 (Sun, 16 Nov 2025) EllapsedTime: 85.1 seconds RetCode: 0 Status: OK PackageFile: comapr_1.14.0.tar.gz PackageFileSize: 1.016 MiB