Package: codelink Version: 1.77.0 Command: /home/biocbuild/bbs-3.22-bioc/R/bin/R CMD INSTALL codelink StartedAt: 2025-10-24 15:42:20 -0400 (Fri, 24 Oct 2025) EndedAt: 2025-10-24 15:42:37 -0400 (Fri, 24 Oct 2025) EllapsedTime: 17.0 seconds RetCode: 0 Status: OK