Package: codelink Version: 1.78.0 Command: /Library/Frameworks/R.framework/Resources/bin/R CMD build --keep-empty-dirs --no-resave-data codelink StartedAt: 2025-11-10 15:59:24 -0500 (Mon, 10 Nov 2025) EndedAt: 2025-11-10 15:59:39 -0500 (Mon, 10 Nov 2025) EllapsedTime: 15.2 seconds RetCode: 0 Status: OK PackageFile: codelink_1.78.0.tar.gz PackageFileSize: 3.182 MiB