Package: codelink Version: 1.78.0 Command: rm -rf codelink.buildbin-libdir && mkdir codelink.buildbin-libdir && /Users/biocbuild/BBS/utils/build-universal.sh codelink_1.78.0.tar.gz /Library/Frameworks/R.framework/Resources/bin/R codelink.buildbin-libdir StartedAt: 2025-11-10 23:15:33 -0500 (Mon, 10 Nov 2025) EndedAt: 2025-11-10 23:15:40 -0500 (Mon, 10 Nov 2025) EllapsedTime: 7.1 seconds RetCode: 0 Status: OK PackageFile: codelink_1.78.0.tgz PackageFileSize: 3.575 MiB