Package: coGPS Version: 1.54.0 Command: /home/biocbuild/bbs-3.22-bioc/R/bin/R CMD INSTALL coGPS StartedAt: 2025-11-16 15:03:40 -0500 (Sun, 16 Nov 2025) EndedAt: 2025-11-16 15:03:51 -0500 (Sun, 16 Nov 2025) EllapsedTime: 11.1 seconds RetCode: 0 Status: OK