Package: coGPS Version: 1.54.0 Command: /home/biocbuild/bbs-3.22-bioc/R/bin/R CMD build --keep-empty-dirs --no-resave-data --md5 coGPS StartedAt: 2025-11-14 16:59:50 -0500 (Fri, 14 Nov 2025) EndedAt: 2025-11-14 17:00:00 -0500 (Fri, 14 Nov 2025) EllapsedTime: 10.0 seconds RetCode: 0 Status: OK PackageFile: coGPS_1.54.0.tar.gz PackageFileSize: 1.763 MiB