Package: cmapR Version: 1.22.0 Command: /Library/Frameworks/R.framework/Resources/bin/R CMD build --keep-empty-dirs --no-resave-data cmapR StartedAt: 2025-11-10 15:58:09 -0500 (Mon, 10 Nov 2025) EndedAt: 2025-11-10 15:58:32 -0500 (Mon, 10 Nov 2025) EllapsedTime: 23.3 seconds RetCode: 0 Status: OK PackageFile: cmapR_1.22.0.tar.gz PackageFileSize: 3.738 MiB