Package: cmapR Version: 1.22.0 Command: rm -rf cmapR.buildbin-libdir && mkdir cmapR.buildbin-libdir && /Users/biocbuild/BBS/utils/build-universal.sh cmapR_1.22.0.tar.gz /Library/Frameworks/R.framework/Resources/bin/R cmapR.buildbin-libdir StartedAt: 2025-11-10 23:15:19 -0500 (Mon, 10 Nov 2025) EndedAt: 2025-11-10 23:15:30 -0500 (Mon, 10 Nov 2025) EllapsedTime: 11.2 seconds RetCode: 0 Status: OK PackageFile: cmapR_1.22.0.tgz PackageFileSize: 3.964 MiB