Package: clustifyr Version: 1.22.0 Command: /home/biocbuild/bbs-3.22-bioc/R/bin/R CMD check --install=check:clustifyr.install-out.txt --library=/home/biocbuild/bbs-3.22-bioc/R/site-library --timings clustifyr_1.22.0.tar.gz StartedAt: 2025-11-18 02:01:51 -0500 (Tue, 18 Nov 2025) EndedAt: 2025-11-18 02:14:42 -0500 (Tue, 18 Nov 2025) EllapsedTime: 770.7 seconds RetCode: 0 Status: OK CheckDir: clustifyr.Rcheck Warnings: 0