Package: clusterStab Version: 1.82.0 Command: /Library/Frameworks/R.framework/Resources/bin/R CMD INSTALL clusterStab StartedAt: 2025-11-10 15:07:04 -0500 (Mon, 10 Nov 2025) EndedAt: 2025-11-10 15:07:06 -0500 (Mon, 10 Nov 2025) EllapsedTime: 2.1 seconds RetCode: 0 Status: OK