Package: clusterStab Version: 1.82.0 Command: /Library/Frameworks/R.framework/Resources/bin/R CMD build --keep-empty-dirs --no-resave-data clusterStab StartedAt: 2025-11-10 15:57:57 -0500 (Mon, 10 Nov 2025) EndedAt: 2025-11-10 15:58:04 -0500 (Mon, 10 Nov 2025) EllapsedTime: 7.1 seconds RetCode: 0 Status: OK PackageFile: clusterStab_1.82.0.tar.gz PackageFileSize: 185.4 KiB