Package: clusterSeq Version: 1.34.0 Command: /Library/Frameworks/R.framework/Resources/bin/R CMD build --keep-empty-dirs --no-resave-data clusterSeq StartedAt: 2025-10-30 16:25:08 -0400 (Thu, 30 Oct 2025) EndedAt: 2025-10-30 16:26:12 -0400 (Thu, 30 Oct 2025) EllapsedTime: 64.1 seconds RetCode: 0 Status: OK PackageFile: clusterSeq_1.34.0.tar.gz PackageFileSize: 1.008 MiB