Package: clusterSeq Version: 1.34.0 Command: rm -rf clusterSeq.buildbin-libdir && mkdir clusterSeq.buildbin-libdir && /Users/biocbuild/BBS/utils/build-universal.sh clusterSeq_1.34.0.tar.gz /Library/Frameworks/R.framework/Resources/bin/R clusterSeq.buildbin-libdir StartedAt: 2025-10-31 01:18:08 -0400 (Fri, 31 Oct 2025) EndedAt: 2025-10-31 01:18:27 -0400 (Fri, 31 Oct 2025) EllapsedTime: 18.5 seconds RetCode: 0 Status: OK PackageFile: clusterSeq_1.34.0.tgz PackageFileSize: 1.053 MiB