Package: clusterSeq Version: 1.34.0 Maintainer: Samuel Granjeaud MaintainerEmail: samuel.granjeaud at inserm.fr git_url: https://git.bioconductor.org/packages/clusterSeq git_branch: RELEASE_3_22 git_last_commit: 0ccb56f git_last_commit_date: 2025-10-29 10:35:57 -0500 (Wed, 29 Oct 2025)