Package: clusterProfiler Version: 4.18.1 Command: /Library/Frameworks/R.framework/Resources/bin/R CMD INSTALL clusterProfiler StartedAt: 2025-11-03 15:45:26 -0500 (Mon, 03 Nov 2025) EndedAt: 2025-11-03 15:46:01 -0500 (Mon, 03 Nov 2025) EllapsedTime: 35.4 seconds RetCode: 0 Status: OK