Package: clusterProfiler Version: 4.18.1 Command: /Library/Frameworks/R.framework/Resources/bin/R CMD build --keep-empty-dirs --no-resave-data clusterProfiler StartedAt: 2025-11-03 16:30:39 -0500 (Mon, 03 Nov 2025) EndedAt: 2025-11-03 16:31:10 -0500 (Mon, 03 Nov 2025) EllapsedTime: 30.9 seconds RetCode: 0 Status: OK PackageFile: clusterProfiler_4.18.1.tar.gz PackageFileSize: 611.1 KiB