Package: clusterProfiler Version: 4.18.1 Command: rm -rf clusterProfiler.buildbin-libdir && mkdir clusterProfiler.buildbin-libdir && /Users/biocbuild/BBS/utils/build-universal.sh clusterProfiler_4.18.1.tar.gz /Library/Frameworks/R.framework/Resources/bin/R clusterProfiler.buildbin-libdir StartedAt: 2025-11-04 01:33:16 -0500 (Tue, 04 Nov 2025) EndedAt: 2025-11-04 01:33:53 -0500 (Tue, 04 Nov 2025) EllapsedTime: 37.0 seconds RetCode: 0 Status: OK PackageFile: clusterProfiler_4.18.1.tgz PackageFileSize: 1.015 MiB