Package: clusterProfiler Version: 4.17.0 Command: /Library/Frameworks/R.framework/Resources/bin/R CMD INSTALL clusterProfiler StartedAt: 2025-10-24 15:28:40 -0400 (Fri, 24 Oct 2025) EndedAt: 2025-10-24 15:28:51 -0400 (Fri, 24 Oct 2025) EllapsedTime: 10.0 seconds RetCode: 0 Status: OK