Package: clusterProfiler Version: 4.17.0 Command: /Library/Frameworks/R.framework/Resources/bin/R CMD build --keep-empty-dirs --no-resave-data clusterProfiler StartedAt: 2025-10-24 16:00:31 -0400 (Fri, 24 Oct 2025) EndedAt: 2025-10-24 16:00:42 -0400 (Fri, 24 Oct 2025) EllapsedTime: 11.1 seconds RetCode: 0 Status: OK PackageFile: clusterProfiler_4.17.0.tar.gz PackageFileSize: 611 KiB