Package: clusterProfiler Version: 4.18.1 Command: /Library/Frameworks/R.framework/Resources/bin/R CMD INSTALL clusterProfiler StartedAt: 2025-11-17 18:18:39 -0500 (Mon, 17 Nov 2025) EndedAt: 2025-11-17 18:18:50 -0500 (Mon, 17 Nov 2025) EllapsedTime: 10.3 seconds RetCode: 0 Status: OK