Package: clusterProfiler Version: 4.18.2 Maintainer: Guangchuang Yu MaintainerEmail: guangchuangyu at gmail.com git_url: https://git.bioconductor.org/packages/clusterProfiler git_branch: RELEASE_3_22 git_last_commit: 011b2d3 git_last_commit_date: 2025-11-19 22:36:27 -0500 (Wed, 19 Nov 2025)