Package: clusterExperiment Version: 2.29.0 Command: /home/biocbuild/bbs-3.22-bioc/R/bin/R CMD INSTALL clusterExperiment StartedAt: 2025-10-12 15:51:51 -0400 (Sun, 12 Oct 2025) EndedAt: 2025-10-12 15:53:06 -0400 (Sun, 12 Oct 2025) EllapsedTime: 75.1 seconds RetCode: 0 Status: OK