Package: clusterExperiment Version: 2.29.0 Command: /home/biocbuild/bbs-3.22-bioc/R/bin/R CMD build --keep-empty-dirs --no-resave-data --md5 clusterExperiment StartedAt: 2025-10-10 17:03:12 -0400 (Fri, 10 Oct 2025) EndedAt: 2025-10-10 17:08:20 -0400 (Fri, 10 Oct 2025) EllapsedTime: 308.3 seconds RetCode: 0 Status: OK PackageFile: clusterExperiment_2.29.0.tar.gz PackageFileSize: 12.02 MiB