Package: clusterExperiment Version: 2.30.0 Command: /Library/Frameworks/R.framework/Resources/bin/R CMD INSTALL clusterExperiment StartedAt: 2025-11-10 15:28:46 -0500 (Mon, 10 Nov 2025) EndedAt: 2025-11-10 15:29:14 -0500 (Mon, 10 Nov 2025) EllapsedTime: 28.3 seconds RetCode: 0 Status: OK