Package: clusterExperiment Version: 2.30.0 Command: rm -rf clusterExperiment.buildbin-libdir && mkdir clusterExperiment.buildbin-libdir && /Users/biocbuild/BBS/utils/build-universal.sh clusterExperiment_2.30.0.tar.gz /Library/Frameworks/R.framework/Resources/bin/R clusterExperiment.buildbin-libdir StartedAt: 2025-11-10 23:15:12 -0500 (Mon, 10 Nov 2025) EndedAt: 2025-11-10 23:15:38 -0500 (Mon, 10 Nov 2025) EllapsedTime: 26.5 seconds RetCode: 0 Status: OK PackageFile: clusterExperiment_2.30.0.tgz PackageFileSize: 12.97 MiB