Package: clustSIGNAL Version: 1.2.0 Command: /Library/Frameworks/R.framework/Resources/bin/R CMD INSTALL clustSIGNAL StartedAt: 2025-10-30 15:47:49 -0400 (Thu, 30 Oct 2025) EndedAt: 2025-10-30 15:48:32 -0400 (Thu, 30 Oct 2025) EllapsedTime: 42.6 seconds RetCode: 0 Status: OK