Package: clustSIGNAL Version: 1.2.0 Command: /Library/Frameworks/R.framework/Resources/bin/R CMD build --keep-empty-dirs --no-resave-data clustSIGNAL StartedAt: 2025-10-30 16:25:25 -0400 (Thu, 30 Oct 2025) EndedAt: 2025-10-30 16:27:12 -0400 (Thu, 30 Oct 2025) EllapsedTime: 107.5 seconds RetCode: 0 Status: OK PackageFile: clustSIGNAL_1.2.0.tar.gz PackageFileSize: 4.58 MiB