Package: clustSIGNAL Version: 1.2.0 Command: rm -rf clustSIGNAL.buildbin-libdir && mkdir clustSIGNAL.buildbin-libdir && /Users/biocbuild/BBS/utils/build-universal.sh clustSIGNAL_1.2.0.tar.gz /Library/Frameworks/R.framework/Resources/bin/R clustSIGNAL.buildbin-libdir StartedAt: 2025-11-01 01:27:37 -0400 (Sat, 01 Nov 2025) EndedAt: 2025-11-01 01:28:22 -0400 (Sat, 01 Nov 2025) EllapsedTime: 45.1 seconds RetCode: 0 Status: OK PackageFile: clustSIGNAL_1.2.0.tgz PackageFileSize: 4.613 MiB