Package: clustSIGNAL Version: 1.1.1 Command: /Library/Frameworks/R.framework/Resources/bin/R CMD INSTALL clustSIGNAL StartedAt: 2025-10-24 15:33:02 -0400 (Fri, 24 Oct 2025) EndedAt: 2025-10-24 15:33:17 -0400 (Fri, 24 Oct 2025) EllapsedTime: 14.5 seconds RetCode: 0 Status: OK