Package: clustSIGNAL Version: 1.1.1 Command: /Library/Frameworks/R.framework/Resources/bin/R CMD build --keep-empty-dirs --no-resave-data clustSIGNAL StartedAt: 2025-10-24 16:00:51 -0400 (Fri, 24 Oct 2025) EndedAt: 2025-10-24 16:01:31 -0400 (Fri, 24 Oct 2025) EllapsedTime: 40.5 seconds RetCode: 0 Status: OK PackageFile: clustSIGNAL_1.1.1.tar.gz PackageFileSize: 4.58 MiB