Package: clustSIGNAL Version: 1.1.1 Command: rm -rf clustSIGNAL.buildbin-libdir && mkdir clustSIGNAL.buildbin-libdir && /Users/biocbuild/BBS/utils/build-universal.sh clustSIGNAL_1.1.1.tar.gz /Library/Frameworks/R.framework/Resources/bin/R clustSIGNAL.buildbin-libdir StartedAt: 2025-10-24 22:58:11 -0400 (Fri, 24 Oct 2025) EndedAt: 2025-10-24 22:58:25 -0400 (Fri, 24 Oct 2025) EllapsedTime: 14.3 seconds RetCode: 0 Status: OK PackageFile: clustSIGNAL_1.1.1.tgz PackageFileSize: 4.613 MiB