Package: clustComp Version: 1.38.0 Command: /home/biocbuild/R/R/bin/R CMD INSTALL clustComp StartedAt: 2025-11-13 21:02:42 -0000 (Thu, 13 Nov 2025) EndedAt: 2025-11-13 21:02:55 -0000 (Thu, 13 Nov 2025) EllapsedTime: 12.9 seconds RetCode: 0 Status: OK