Package: clustComp Version: 1.38.0 Command: /home/biocbuild/R/R/bin/R CMD build --keep-empty-dirs --no-resave-data clustComp StartedAt: 2025-11-14 00:42:04 -0000 (Fri, 14 Nov 2025) EndedAt: 2025-11-14 00:43:18 -0000 (Fri, 14 Nov 2025) EllapsedTime: 74.0 seconds RetCode: 0 Status: OK PackageFile: clustComp_1.38.0.tar.gz PackageFileSize: 925 KiB