Package: clustComp Version: 1.38.0 Command: /home/biocbuild/bbs-3.22-bioc/R/bin/R CMD check --install=check:clustComp.install-out.txt --library=/home/biocbuild/bbs-3.22-bioc/R/site-library --timings clustComp_1.38.0.tar.gz StartedAt: 2025-11-16 22:18:58 -0500 (Sun, 16 Nov 2025) EndedAt: 2025-11-16 22:20:13 -0500 (Sun, 16 Nov 2025) EllapsedTime: 75.2 seconds RetCode: 0 Status: OK CheckDir: clustComp.Rcheck Warnings: 0