Package: clustComp Version: 1.37.0 Command: /home/biocbuild/bbs-3.22-bioc/R/bin/R CMD build --keep-empty-dirs --no-resave-data --md5 clustComp StartedAt: 2025-10-24 17:02:28 -0400 (Fri, 24 Oct 2025) EndedAt: 2025-10-24 17:03:27 -0400 (Fri, 24 Oct 2025) EllapsedTime: 59.0 seconds RetCode: 0 Status: OK PackageFile: clustComp_1.37.0.tar.gz PackageFileSize: 932.3 KiB