Package: clustComp Version: 1.38.0 Command: /Library/Frameworks/R.framework/Resources/bin/R CMD INSTALL clustComp StartedAt: 2025-11-17 16:48:33 -0500 (Mon, 17 Nov 2025) EndedAt: 2025-11-17 16:48:39 -0500 (Mon, 17 Nov 2025) EllapsedTime: 6.4 seconds RetCode: 0 Status: OK