Package: clustComp Version: 1.38.0 Command: /Library/Frameworks/R.framework/Resources/bin/R CMD build --keep-empty-dirs --no-resave-data clustComp StartedAt: 2025-11-17 21:15:52 -0500 (Mon, 17 Nov 2025) EndedAt: 2025-11-17 21:17:41 -0500 (Mon, 17 Nov 2025) EllapsedTime: 109.5 seconds RetCode: 0 Status: OK PackageFile: clustComp_1.38.0.tar.gz PackageFileSize: 931.2 KiB