Package: clustComp Version: 1.38.0 Command: rm -rf clustComp.buildbin-libdir && mkdir clustComp.buildbin-libdir && /Users/biocbuild/BBS/utils/build-universal.sh clustComp_1.38.0.tar.gz /Library/Frameworks/R.framework/Resources/bin/R clustComp.buildbin-libdir StartedAt: 2025-11-18 17:22:52 -0500 (Tue, 18 Nov 2025) EndedAt: 2025-11-18 17:23:03 -0500 (Tue, 18 Nov 2025) EllapsedTime: 10.2 seconds RetCode: 0 Status: OK PackageFile: clustComp_1.38.0.tgz PackageFileSize: 1019 KiB