Package: clustComp Version: 1.38.0 Command: /Library/Frameworks/R.framework/Resources/bin/R CMD INSTALL clustComp StartedAt: 2025-11-17 16:50:23 -0500 (Mon, 17 Nov 2025) EndedAt: 2025-11-17 16:50:24 -0500 (Mon, 17 Nov 2025) EllapsedTime: 1.0 seconds RetCode: 0 Status: OK