Package: clstutils Version: 1.58.0 Command: /Library/Frameworks/R.framework/Resources/bin/R CMD INSTALL clstutils StartedAt: 2025-11-10 15:04:00 -0500 (Mon, 10 Nov 2025) EndedAt: 2025-11-10 15:04:18 -0500 (Mon, 10 Nov 2025) EllapsedTime: 18.6 seconds RetCode: 0 Status: OK