Package: clstutils Version: 1.58.0 Command: /Library/Frameworks/R.framework/Resources/bin/R CMD build --keep-empty-dirs --no-resave-data clstutils StartedAt: 2025-11-10 15:57:33 -0500 (Mon, 10 Nov 2025) EndedAt: 2025-11-10 15:57:43 -0500 (Mon, 10 Nov 2025) EllapsedTime: 9.1 seconds RetCode: 0 Status: OK PackageFile: clstutils_1.58.0.tar.gz PackageFileSize: 2.694 MiB